BEGIN:VCALENDAR
VERSION:2.0
PRODID:-//Warminster Bowling Club - ECPv6.15.20//NONSGML v1.0//EN
CALSCALE:GREGORIAN
METHOD:PUBLISH
X-ORIGINAL-URL:https://warminsterbowlingclub.uk
X-WR-CALDESC:Events for Warminster Bowling Club
REFRESH-INTERVAL;VALUE=DURATION:PT1H
X-Robots-Tag:noindex
X-PUBLISHED-TTL:PT1H
BEGIN:VTIMEZONE
TZID:UTC
BEGIN:STANDARD
TZOFFSETFROM:+0000
TZOFFSETTO:+0000
TZNAME:UTC
DTSTART:20250101T000000
END:STANDARD
END:VTIMEZONE
BEGIN:VEVENT
DTSTART;TZID=UTC:20260321T173000
DTEND;TZID=UTC:20260321T220000
DTSTAMP:20260421T083702
CREATED:20251114T193038Z
LAST-MODIFIED:20260309T131455Z
UID:503-1774114200-1774130400@warminsterbowlingclub.uk
SUMMARY:St Patrick's Day 21 Mar 26
DESCRIPTION:St Patrick’s Day 21 Mar 26 \nSoup \nNo Cost \n 
URL:https://warminsterbowlingclub.uk/event/st-patricks-day-21-mar-26/
END:VEVENT
END:VCALENDAR