BEGIN:VCALENDAR
VERSION:2.0
PRODID:-//Warminster Bowling Club - ECPv6.15.20//NONSGML v1.0//EN
CALSCALE:GREGORIAN
METHOD:PUBLISH
X-WR-CALNAME:Warminster Bowling Club
X-ORIGINAL-URL:https://warminsterbowlingclub.uk
X-WR-CALDESC:Events for Warminster Bowling Club
REFRESH-INTERVAL;VALUE=DURATION:PT1H
X-Robots-Tag:noindex
X-PUBLISHED-TTL:PT1H
BEGIN:VTIMEZONE
TZID:UTC
BEGIN:STANDARD
TZOFFSETFROM:+0000
TZOFFSETTO:+0000
TZNAME:UTC
DTSTART:20250101T000000
END:STANDARD
END:VTIMEZONE
BEGIN:VEVENT
DTSTART;TZID=UTC:20260904T173000
DTEND;TZID=UTC:20260906T170000
DTSTAMP:20260420T092848
CREATED:20260218T134804Z
LAST-MODIFIED:20260218T135050Z
UID:786-1788543000-1788714000@warminsterbowlingclub.uk
SUMMARY:Club Finals Weekend
DESCRIPTION:Finals weekend will take place 4\, 5 and 6 Sep
URL:https://warminsterbowlingclub.uk/event/finals-weekend/
END:VEVENT
END:VCALENDAR